Workbook

Sheet Vigia Diurno - Dias Úteis
B2: TIPO DE SERVIÇO | E2: Data:05/08/2026
B3: I - FUNÇÃO DO PROFISSIONAL
B4: Vigia CBO 5174-20 (Diurno) - Segunda à Sábado
B5: COMPOSIÇÃO DO CUSTO MENSAL | E5: CUTO MÊS
B6: II - SALÁRIO ESTIMADO DO PROFISSIONAL - REMUNERAÇÃO
B7: Salário Fixo - Remuneração com base na convenção coletiva 2026 (220h/mês) | E7: =Referências!C4 -> 0
B8: Adicional de periculosidade | C8: 0.3 | E8: =E7*0.3 -> 0
B9: TOTAL - REMUNERAÇÃO | E9: =E7+E8 -> 0
B11: TOTAL - Encargos sociais e Trabalhistas - 69,29% | E11: =E9*(69.29/100) -> 0
B13: TOTAL - Benefícios Legais (Auxílio Alimentação) | E13: =(26*Referências!C6)-((26*Referências!C6)*(20/100)) -> 0
B15: TOTAL - Uniforme | E15: =Uniforme!F8 -> 0
B17: TOTAL - Curso de reciclagem | E17: 0
B19: TOTAL - Remuneração + Encargos Sociais + Benefícios + insumos | E19: =SUM(E9:E17) -> 0
B21: TOTAL - BDI + Despesas Adm/Oper + Tributos - 22,19% | E21: =E19*0.2219 -> 0
B23: TOTAL GERAL | E23: =E19+E21 -> 0
B25: VALOR HORA | E25: =E23/220 -> 0
B27: Encargos Sociais
B28: Grupo A
B29: INSS | C29: 0.2
B30: FGTS | C30: 0.08
B31: Seg. Acid. Trabalho | C31: 0.03
B32: Salário Educação | C32: 0.025
B33: Sebrae | C33: 0.006
B34: Sesi/Sesc/DPC/Faer | C34: 0.015
B35: Senai/Senac/DPC/Faer | C35: 0.01
B36: Incra | C36: 0.002
B37: Sub-total | C37: =SUM(C29:C36) -> 0.368
B39: Grupo B
B40: Férias gozadas | C40: 0.0838
B41: 13º salário | C41: 0.0829
B42: Licença Paternidade | C42: 0.0005
B43: Faltas justificadas | C43: 0.0056
B44: Auxilio acidente de trabalho | C44: 0.0002
B45: Auxilio doença | C45: 0.0067
B46: Salario maternidade | C46: 0.0003
B47: Sub-total | C47: =SUM(C40:C46) -> 0.18
B49: Grupo C
B50: Aviso prévio indenizado | C50: 0.0317
B51: Aviso prévio trabalhado | C51: 0.0008
B52: Férias indenizadas | C52: 0.0273
...

Sheet Uniforme
A1: Descrição | B1: Vida útil | C1: Quantidade anual | D1: Valor unitário | E1: Valor total anual | F1: Valor total mensal | I1: =Referências!C4 -> 0 | J1: 1
A2: Calça | B2: 180 dias | C2: =365/180 -> 2.0277778 | D2: 0 | E2: =C2*D2 -> 0 | F2: =E2/12 -> 0 | I2: =F8 -> 0 | J2: =(I2*J1)/I1 -> #DIV/0!
A3: Camisa | B3: 180 dias | C3: =365/180 -> 2.0277778 | D3: 0 | E3: =C3*D3 -> 0 | F3: =E3/12 -> 0
A4: Gravata | B4: 2 anos | C4: 0.5 | D4: 0 | E4: =D4/2 -> 0 | F4: =E4/12 -> 0
A5: Sapato / coturno | B5: 90 dias | C5: =365/90 -> 4.0555556 | D5: 0 | E5: =C5*D5 -> 0 | F5: =E5/12 -> 0
A6: Japona ou similar | B6: 1 ano | C6: 1 | D6: 0 | E6: =C6*D6 -> 0 | F6: =E6/12 -> 0
A7: Quepe ou similar | B7: 1 ano | C7: 1 | D7: 0 | E7: =C7*D7 -> 0 | F7: =E7/12 -> 0
E8: total | F8: =SUM(F2:F7) -> 0

Sheet Vigia Noturno - Dias Úteis
B2: TIPO DE SERVIÇO | E2: Data:05/08/2026
B3: I - FUNÇÃO DO PROFISSIONAL
B4: Vigia CBO 5174-20 (Noturno) - Segunda à Sábado
B5: COMPOSIÇÃO DO CUSTO MENSAL | E5: CUTO MÊS
B6: II - SALÁRIO ESTIMADO DO PROFISSIONAL - REMUNERAÇÃO
B7: Salário Fixo - Remuneração com base na convenção coletiva 2026 (220h/mês) | E7: ='Vigia Diurno - Dias Úteis'!E7 -> 0
B8: Adicional Noturno | E8: =E7*0.2 -> 0
B9: Adicional periculosidade | C9: 0.3 | E9: =E7*0.3 -> 0
B10: TOTAL - REMUNERAÇÃO | E10: =SUM(E7:E9) -> 0
B12: TOTAL - Encargos sociais e Trabalhistas - 69,29% | E12: =E10*(69.29/100) -> 0
B14: TOTAL - Benefícios Legais (Vale Alimentação) | E14: =(26*Referências!C6)-((26*Referências!C6)*(20/100)) -> 0
B16: TOTAL - Uniforme | E16: =Uniforme!F8 -> 0
B18: TOTAL - Curso de Reciclagem | E18: ='Vigia Diurno - Dias Úteis'!E17 -> 0
B20: TOTAL - Remuneração + Encargos Sociais + Benefícios + insumos | E20: =SUM(E10:E18) -> 0
B22: TOTAL - BDI + Despesas Adm/Oper + Tributos - 22,19% | E22: =E20*0.2219 -> 0
B24: TOTAL GERAL | E24: =E20+E22 -> 0
B26: VALOR HORA | E26: =E24/220 -> 0
B28: Encargos Sociais
B29: Grupo A
B30: INSS | C30: 0.2
B31: FGTS | C31: 0.08
B32: Seg. Acid. Trabalho | C32: 0.03
B33: Salário Educação | C33: 0.025
B34: Sebrae | C34: 0.006
B35: Sesi/Sesc/DPC/Faer | C35: 0.015
B36: Senai/Senac/DPC/Faer | C36: 0.01
B37: Incra | C37: 0.002
B38: Sub-total | C38: =SUM(C30:C37) -> 0.368
B40: Grupo B
B41: Férias gozadas | C41: 0.0838
B42: 13º salário | C42: 0.0829
B43: Licença Paternidade | C43: 0.0005
B44: Faltas justificadas | C44: 0.0056
B45: Auxilio acidente de trabalho | C45: 0.0002
B46: Auxilio doença | C46: 0.0067
B47: Salario maternidade | C47: 0.0003
B48: Sub-total | C48: =SUM(C41:C47) -> 0.18
B50: Grupo C
B51: Aviso prévio indenizado | C51: 0.0317
B52: Aviso prévio trabalhado | C52: 0.0008
...

Sheet Vigia Diurno - Domingo
B2: TIPO DE SERVIÇO | E2: Data: 05/08/2026
B3: I - FUNÇÃO DO PROFISSIONAL
B4: Vigia CBO 5174-20 Domingos e Feriados - Diurno
B5: COMPOSIÇÃO DO CUSTO MENSAL | E5: CUTO MÊS
B6: II - SALÁRIO ESTIMADO DO PROFISSIONAL - REMUNERAÇÃO
B7: Salário Fixo - Remuneração com base na convenção coletiva 2026 (220h/mês) | E7: =Referências!C4 -> 0
B8: Horas Extras 50% | E8: =((E7/220)*1.5)*36.65 -> 0 | I8: =5*7.33 -> 36.65 | J8: média de domingos e feriados no mês * 7,33
B9: Periculosidade | C9: 0.3 | E9: =E7*0.3 -> 0
B10: TOTAL - REMUNERAÇÃO | E10: =E7+E8+E9 -> 0
B12: TOTAL - Encargos sociais e Trabalhistas - 69,29 | E12: =E10*(69.29/100) -> 0
B14: TOTAL - Benefícios Legais (Vale Alimentação) | E14: =(26*Referências!C6)-((26*Referências!C6)*(20/100)) -> 0
B16: TOTAL - Uniforme | E16: =Uniforme!F8 -> 0
B18: TOTAL - Curso de reciclagem | E18: ='Vigia Diurno - Dias Úteis'!E17 -> 0
B20: TOTAL - Remuneração + Encargos Sociais + Benefícios + insumos | E20: =SUM(E10+E12+E14+E16+E18) -> 0
B22: TOTAL - BDI + Despesas Adm/Oper + Tributos - 22,19% | E22: =E20*0.2219 -> 0
B24: TOTAL GERAL | E24: =E20+E22 -> 0
B26: VALOR HORA | E26: =(E24/220) -> 0
B28: Encargos Sociais
B29: Grupo A
B30: INSS | C30: 0.2
B31: FGTS | C31: 0.08
B32: Seg. Acid. Trabalho | C32: 0.03
B33: Salário Educação | C33: 0.025
B34: Sebrae | C34: 0.006
B35: Sesi/Sesc/DPC/Faer | C35: 0.015
B36: Senai/Senac/DPC/Faer | C36: 0.01
B37: Incra | C37: 0.002
B38: Sub-total | C38: =SUM(C30:C37) -> 0.368
B40: Grupo B
B41: Férias gozadas | C41: 0.0838
B42: 13º salário | C42: 0.0829
B43: Licença Paternidade | C43: 0.0005
B44: Faltas justificadas | C44: 0.0056
B45: Auxilio acidente de trabalho | C45: 0.0002
B46: Auxilio doença | C46: 0.0067
B47: Salario maternidade | C47: 0.0003
B48: Sub-total | C48: =SUM(C41:C47) -> 0.18
B50: Grupo C
B51: Aviso prévio indenizado | C51: 0.0317
B52: Aviso prévio trabalhado | C52: 0.0008
...

Sheet Vigia Noturno - Domingo
A1: TIPO DE SERVIÇO
A2: I - FUNÇÃO DO PROFISSIONAL
A3: Vigia CBO 5174-20 Domingos e Feriados - Noturno
A4: COMPOSIÇÃO DO CUSTO MENSAL | D4: CUTO MÊS
A5: II - SALÁRIO ESTIMADO DO PROFISSIONAL - REMUNERAÇÃO
A6: Salário Fixo - Remuneração com base na convenção coletiva 2026 (220h/mês) | D6: =Referências!C4 -> 0
A7: Adicional noturno | B7: 0.2 | D7: =D6*0.2 -> 0
A8: Horas Extras | B8: 0.5 | D8: =((D6/220)*1.5)*36.65 -> 0
A9: Periculosidade | B9: 0.3 | D9: =D6*0.3 -> 0
A10: TOTAL - REMUNERAÇÃO | D10: =SUM(D6:D9) -> 0
A12: TOTAL - Encargos sociais e Trabalhistas - 69,29 | D12: =D10*(69.29/100) -> 0
A14: TOTAL - Benefícios Legais (Vale Alimentação) | D14: =(26*Referências!C6)-((26*Referências!C6)*(20/100)) -> 0
A16: TOTAL - Uniforme | D16: =Uniforme!F8 -> 0
A18: TOTAL - Curso de reciclagem | D18: ='Vigia Diurno - Dias Úteis'!E17 -> 0
A20: TOTAL - Remuneração + Encargos Sociais + Benefícios + insumos | D20: =SUM(D10:D18) -> 0
A22: TOTAL - BDI + Despesas Adm/Oper + Tributos - 22,19% | D22: =D20*0.2219 -> 0
A24: TOTAL GERAL | D24: =D20+D22 -> 0
A26: VALOR HORA | D26: =(D24/220) -> 0
A28: Encargos Sociais
A29: Grupo A
A30: INSS | B30: 0.2
A31: FGTS | B31: 0.08
A32: Seg. Acid. Trabalho | B32: 0.03
A33: Salário Educação | B33: 0.025
A34: Sebrae | B34: 0.006
A35: Sesi/Sesc/DPC/Faer | B35: 0.015
A36: Senai/Senac/DPC/Faer | B36: 0.01
A37: Incra | B37: 0.002
A38: Sub-total | B38: =SUM(B30:B37) -> 0.368
A40: Grupo B
A41: Férias gozadas | B41: 0.0838
A42: 13º salário | B42: 0.0829
A43: Licença Paternidade | B43: 0.0005
A44: Faltas justificadas | B44: 0.0056
A45: Auxilio acidente de trabalho | B45: 0.0002
A46: Auxilio doença | B46: 0.0067
A47: Salario maternidade | B47: 0.0003
A48: Sub-total | B48: =SUM(B41:B47) -> 0.18
A50: Grupo C
A51: Aviso prévio indenizado | B51: 0.0317
...

Sheet Referências
B2: MÃO DE OBRA
B3: item | C3: Valor | D3: Convenção
B4: Salário | C4: 0 | D4: Mediador - Extrato Convenção Coletiva
B5: Encargos sociais | C5: 0 | D5: https://www.caixa.gov.br/Downloads/sinapi-metodologia/Livro_SINAPI_Calculos_Parametros.pdfhttps://www.caixa.gov.br/Downloads/sinapi-metodologia/Livro_SINAPI_Calculos_Parametros.pdf
B6: Vale alimentação | C6: 0 | D6: Mediador - Extrato Convenção Coletiva
B7: uniforme | C7: =Uniforme!F8 -> 0 | D7: média de preços de consultas onlines
